BEGIN:VCALENDAR
VERSION:2.0
PRODID:-//The Argus Foundation - ECPv5.14.0.3//NONSGML v1.0//EN
CALSCALE:GREGORIAN
METHOD:PUBLISH
X-WR-CALNAME:The Argus Foundation
X-ORIGINAL-URL:https://argusfoundation.org
X-WR-CALDESC:Events for The Argus Foundation
BEGIN:VTIMEZONE
TZID:America/New_York
BEGIN:DAYLIGHT
TZOFFSETFROM:-0500
TZOFFSETTO:-0400
TZNAME:EDT
DTSTART:20250309T070000
END:DAYLIGHT
BEGIN:STANDARD
TZOFFSETFROM:-0400
TZOFFSETTO:-0500
TZNAME:EST
DTSTART:20251102T060000
END:STANDARD
END:VTIMEZONE
BEGIN:VEVENT
DTSTART;TZID=America/New_York:20250828T113000
DTEND;TZID=America/New_York:20250828T133000
DTSTAMP:20260421T052820
CREATED:20250710T031338Z
LAST-MODIFIED:20250722T131107Z
UID:9281-1756380600-1756387800@argusfoundation.org
SUMMARY:Meet the Minds Luncheon: Florida TaxWatch incoming CEO and current Executive VP\, Lt. Governor Jeff Kottkamp
DESCRIPTION:Join us for an insightful luncheon with featured speaker\, Florida TaxWatch incoming CEO and current Executive VP\, Lt. Governor Jeff Kottkamp. \nArgus Members $70 \nNon-Members $80 \n11:30 – Registration and Networking \nNoon – Welcome\, Lunch\, Program followed by Q&A \nCLICK HERE to Purchase Tickets
URL:https://argusfoundation.org/event/meet-the-minds-luncheon-featured-speaker-florida-taxwatch-incoming-ceo-jeff-kottkamp/
LOCATION:Michael’s on East Ballroom\, 1212 East Avenue\, Sarasota\, FL\, 34239
ATTACH;FMTTYPE=image/jpeg:https://argusfoundation.org/wp-content/uploads/2025/07/Kottkamp-HS.jpg
END:VEVENT
END:VCALENDAR