BEGIN:VCALENDAR
VERSION:2.0
PRODID:-//The Argus Foundation - ECPv5.14.0.3//NONSGML v1.0//EN
CALSCALE:GREGORIAN
METHOD:PUBLISH
X-WR-CALNAME:The Argus Foundation
X-ORIGINAL-URL:http://argusfoundation.org
X-WR-CALDESC:Events for The Argus Foundation
BEGIN:VTIMEZONE
TZID:America/New_York
BEGIN:DAYLIGHT
TZOFFSETFROM:-0500
TZOFFSETTO:-0400
TZNAME:EDT
DTSTART:20260308T070000
END:DAYLIGHT
BEGIN:STANDARD
TZOFFSETFROM:-0400
TZOFFSETTO:-0500
TZNAME:EST
DTSTART:20261101T060000
END:STANDARD
END:VTIMEZONE
BEGIN:VEVENT
DTSTART;TZID=America/New_York:20260225T113000
DTEND;TZID=America/New_York:20260225T133000
DTSTAMP:20260421T081313
CREATED:20251218T035036Z
LAST-MODIFIED:20251218T035402Z
UID:9904-1772019000-1772026200@argusfoundation.org
SUMMARY:Argus Meet the Minds Luncheon with Guest Speaker\, Paul Renner
DESCRIPTION:Featured Speaker\, Former FL House Speaker\, Paul Renner\, Florida Governor Candidate \nArgus Members $70 \nNon-Members $85 \n11:30 – Registration and Networking \nNoon – Welcome\, Lunch\, Program followed by Q&A \n 
URL:http://argusfoundation.org/event/argus-meet-the-minds-luncheon-with-guest-speaker-paul-renner/
LOCATION:Michael’s on East Ballroom\, 1212 East Avenue\, Sarasota\, FL\, 34239
ATTACH;FMTTYPE=image/jpeg:http://argusfoundation.org/wp-content/uploads/2025/12/Paul-Renner-scaled-1.jpg
END:VEVENT
END:VCALENDAR